BEGIN:VCALENDAR
VERSION:2.0
PRODID:-//jEvents 2.0 for Joomla//EN
CALSCALE:GREGORIAN
METHOD:PUBLISH
BEGIN:VTIMEZONE
TZID:Europe/Berlin
BEGIN:STANDARD
DTSTART:20241027T020000
RDATE:20250330T030000
TZOFFSETFROM:+0200
TZOFFSETTO:+0100
TZNAME:Europe/Berlin CET
END:STANDARD
BEGIN:STANDARD
DTSTART:20251026T020000
RDATE:20260329T030000
TZOFFSETFROM:+0200
TZOFFSETTO:+0100
TZNAME:Europe/Berlin CET
END:STANDARD
BEGIN:STANDARD
DTSTART:20261025T020000
RDATE:20270328T030000
TZOFFSETFROM:+0200
TZOFFSETTO:+0100
TZNAME:Europe/Berlin CET
END:STANDARD
BEGIN:STANDARD
DTSTART:20271031T020000
RDATE:20280326T030000
TZOFFSETFROM:+0200
TZOFFSETTO:+0100
TZNAME:Europe/Berlin CET
END:STANDARD
BEGIN:STANDARD
DTSTART:20281029T020000
RDATE:20290325T030000
TZOFFSETFROM:+0200
TZOFFSETTO:+0100
TZNAME:Europe/Berlin CET
END:STANDARD
BEGIN:STANDARD
DTSTART:20291028T020000
RDATE:20300331T030000
TZOFFSETFROM:+0200
TZOFFSETTO:+0100
TZNAME:Europe/Berlin CET
END:STANDARD
BEGIN:DAYLIGHT
DTSTART:20240628T110000
RDATE:20241027T020000
TZOFFSETFROM:+0100
TZOFFSETTO:+0200
TZNAME:Europe/Berlin CEST
END:DAYLIGHT
BEGIN:DAYLIGHT
DTSTART:20250330T030000
RDATE:20251026T020000
TZOFFSETFROM:+0100
TZOFFSETTO:+0200
TZNAME:Europe/Berlin CEST
END:DAYLIGHT
BEGIN:DAYLIGHT
DTSTART:20260329T030000
RDATE:20261025T020000
TZOFFSETFROM:+0100
TZOFFSETTO:+0200
TZNAME:Europe/Berlin CEST
END:DAYLIGHT
BEGIN:DAYLIGHT
DTSTART:20270328T030000
RDATE:20271031T020000
TZOFFSETFROM:+0100
TZOFFSETTO:+0200
TZNAME:Europe/Berlin CEST
END:DAYLIGHT
BEGIN:DAYLIGHT
DTSTART:20280326T030000
RDATE:20281029T020000
TZOFFSETFROM:+0100
TZOFFSETTO:+0200
TZNAME:Europe/Berlin CEST
END:DAYLIGHT
BEGIN:DAYLIGHT
DTSTART:20290325T030000
RDATE:20291028T020000
TZOFFSETFROM:+0100
TZOFFSETTO:+0200
TZNAME:Europe/Berlin CEST
END:DAYLIGHT
END:VTIMEZONE
BEGIN:VEVENT
UID:e0bafd65d2e9afed58b6e396937c4820
CATEGORIES:Förderverein
CREATED:20250514T101240
SUMMARY:Einladung zum Parkfest/Kinderfest im Cromford Park und Siegerehrung changes.AWARD
URL;VALUE=URI:http://cromford-ev.de/crom/veranstaltungen/eventdetail/287/-/einladung-zum-
 parkfest-kinderfest-im-cromford-park-und-siegerehrung-changes-award?tmpl=co
 mponent
DESCRIPTION:<h2 style="font-size: 2rem; text-align: center;">🎉 Einladung zum Parkfest/K
 inderfest im Cromford Park und Siegerehrung changes.AWARD 🎉</h2><p style="t
 ext-align: center; font-weight: bold;">am Sonntag, 29. Juni 2025 ab 11:00 U
 hr im Cromford Park</p><p>&nbsp;</p><p>Liebe Mitglieder, sehr geehrte Damen
  und Herren,</p><p>&nbsp;</p><div style="background: #f8f9fa; padding: 15px
 ; border-radius: 8px;"><p>am Sonntag, d. 29. Juni 2025, findet wieder das t
 raditionelle Park-und Kinderfest im Cromford-Park statt. Die Freunde und Fö
 rderer des Industriemuseums Cromford, das LVR-Industriemuseum Textilfabrik 
 Cromford und die changes.AWARD-Kooperation Mitsubishi Electric/ Förderverei
 n Cromford - laden Sie und Ihre Freunde dazu herzlich ein.</p></div><p>&nbs
 p;</p><p>Vor der prächtigen Kulisse des Herrenhauses erleben Sie</p><ul><li
 >die Big Band von Prof. Dr. Uwe Fitzner, der schon viele Jahre das Park-und
  Kinderfest mit seiner Band schwungvoll und beschwingt begleitet hat</li><l
 i>die Präsentation der teilnehmenden Schülergruppen des changes.AWARD</li><
 li>die Preisverleihung und Siegerehrung mit der großartigen Unterstützung v
 on Mitsubishi Electric Europe unter dem Trommelwirbel der Taiko Lions</li><
 li>das Jugendblasorchester der Musikschule Ratingen unter der Leitung von P
 aul Sevenich.</li></ul><p>Parallel verläuft das Kinderfest unter dem Motto 
 - Spiel, Spaß und Aktionen rund um die Baumwolle - wie in all den Jahren zu
 vor.</p><p>Im Angebot sind</p><ul><li>traditionelle Kinderspiele</li><li>Ak
 tionen rund um die Baumwolle</li><li>Verkleidung mit traditionellen Kostüme
 n mit der entsprechenden fotografischen Begleitung.</li></ul><p>&nbsp;</p><
 p>Bei Stockbrot und Würstchen vom Grill können sich Klein und Groß zwischen
 durch stärken.</p><p>Das Stuckhotel Fettehenne wird mit einem Food-Truck ve
 rtreten sein und für kulinarischen Genuss sorgen.</p><p>Am Stand der Weinha
 ndlung Wein-Garten können Sie sich an verschiedenen Weinen und einem Snacka
 ngebot erfreuen.</p><p>Sind Sie an etwas Süßem interessiert, empfiehlt sich
  der Gang zum Kuchenbuffet des Fördervereins.</p><p>Traditionell zeigt das 
 Kuchenbuffet unserer Mitglieder unter anderem den Charakter des Festes als 
 gemeinsames Picknick. Wir bitten Sie deshalb wieder wie in den letzten Jahr
 en um großzügige Kuchenspenden!</p><p><em><strong>Unsere Fördervereinsmitgl
 ieder - Heike Kramer und Karen Tindall - nehmen sehr gerne Ihre ‚Kuchen-Ang
 ebote‘ (keine Sahnetorten!) entgegen:</strong></em></p><p>&nbsp;</p><p styl
 e="text-align: center;">Bitte melden Sie sich bei<br /> <strong>Heike Krame
 r/Karen Tindall</strong><br /> Telefon: <a href="tel:+491621998103">0162 19
 98103</a><br /> E-Mail: <joomla-hidden-mail  is-link="1" is-email="1" first
 ="aGVpa2Uua3JhbWVyMQ==" last="YXJjb3IuZGU=" text="aGVpa2Uua3JhbWVyMUBhcmNvc
 i5kZQ==" base="/crom" >Diese E-Mail-Adresse ist vor Spambots geschützt! Zur
  Anzeige muss JavaScript eingeschaltet sein.</joomla-hidden-mail></p><p>&nb
 sp;</p><hr /><p>Unter einem geräumigen Zelt und vor einer großen Bühne kann
  man dann bei Kaffee und Kuchen oder einem Glas Wein der Musik lauschen.</p
 ><p>Lassen Sie sich entführen in die Welt der Brügelmanns, schlüpfen Sie in
  historische Kostüme und feiern Sie mit uns, so wie vor über 200 Jahren im 
 Cromford-Park der Festsonntag vielleicht auch gefeiert wurde.</p><h3 style=
 "font-size: 1.6rem; margin-top: 2rem;">📅 Programm für den 29.06.2025</h3><p
 ><strong>Park- und Kinderfest</strong> des Fördervereins der Freunde und Fö
 rderer des Industriemuseums Cromford e.V. und des LVR-Industriemuseums Text
 ilfabrik Cromford Ratingen</p><p><strong>im Cromford Park</strong><br />Par
 k- und Kinderfest</p><p><strong>Schirmherr:</strong> Klaus Konrad Pesch, Bü
 rgermeister der Stadt Ratingen<br /> <strong>Veranstalter:</strong> Freunde
  und Förderer des Industriemuseums Cromford und<br /> &nbsp;&nbsp;&nbsp;&nb
 sp;&nbsp;&nbsp;&nbsp;&nbsp;&nbsp;&nbsp;&nbsp;&nbsp;&nbsp;&nbsp;&nbsp;&nbsp;
 &nbsp;&nbsp;&nbsp;&nbsp;&nbsp;LVR-Industriemuseum Textilfabrik Cromford Rat
 ingen</p><p><br /> <strong>Beginn:</strong> 11:00 Uhr<br /> <strong>Ende:</
 strong> 18:00 Uhr</p><p>&nbsp;</p><h4 style="font-size: 1.4rem;">🏆 changes.
 AWARD</h4><p>&nbsp;</p><p><strong>Schirmherrin:</strong> Mona Neubaur, Mini
 sterin für Wirtschaft, Industrie, Klimaschutz und Energie/ stellv. Minister
 präsidentin des Landes NRW</p><p><strong>Siegerehrung aus dem Wettbewerb de
 s changes.AWARD 2025</strong></p><p><strong>Veranstalter:</strong> Freunde 
 und Förderer des Industriemuseums Cromford/Mitsubishi Electric Europe B.V<b
 r /> <strong>Beginn:</strong> 11:00 Uhr Präsentation der Ergebnisse des Wet
 tbewerbs in den Pagdodenzelten<br /> <strong>Ende:</strong> 13:00 Uhr</p><p
 >10 Schülergruppen aus weiterführenden Schulen aus ganz NRW präsentieren ih
 re ausgefeilten Businesspläne zu Problemlösungen unter der Aufgabenstellung
 :</p><blockquote>Invent Today – Innovate Tomorrow<br /> Wie kann KI das Leb
 en einfacher, sicherer und besser machen?</blockquote><h4 style="font-size:
  1.4rem;">Swinging mit der Big Band - Prof. Dr. Uwe Fitzner</h4><p><strong>
 Veranstalter:</strong> Freunde und Förderer des Industriemuseums Cromford<b
 r /> <strong>Beginn:</strong> 11:00 Uhr<br /> <strong>Ende:</strong> 13:00 
 Uhr</p><h4 style="font-size: 1.4rem;">Siegerehrung: changes.AWARD</h4><p><s
 trong>14:00 Uhr – 15:00 Uhr</strong><br />mit der Trommelgruppe der Taiko L
 ions</p><h4 style="font-size: 1.4rem;">Jugendblasorchester der Musikschule 
 Ratingen – Paul Sevenich</h4><p><strong>Veranstalter:</strong> Freunde und 
 Förderer des Industriemuseums Cromford<br /> <strong>Beginn:</strong> 15:30
  Uhr<br /> <strong>Ende:</strong> 17:45 Uhr</p><p>Wir freuen uns auf Sie, I
 hre Familie und Ihre Freunde.</p><p>Genießen Sie wieder einen besonderen Ta
 g in Cromford, genießen Sie unser Park- und Kinderfest, genießen Sie unsere
  Highlights.</p><hr /><h3 style="font-size: 1.6rem;">🤝 Mit uns bleibt Gesch
 ichte lebendig!</h3><p><strong>Der Vorstand der Freunde und Förderer des In
 dustriemuseums Cromford:</strong><br /> Hannelore Hanning (Vorsitzende)/Dr.
  Annette Koewius/H-J.Zimmer/Christoph Kirschner/Gerd Droste, Dr. Eckart Hof
 mann, Alexander Hönes</p><p>&nbsp;</p><p>&nbsp;</p><h4 style="font-size: 1.
 4rem;">🎤 Zusatz-Highlight am Samstag, 28.06.2025</h4><p>Am Samstag, d. 28.0
 6.2025 von 17:00 Uhr bis 19:00 Uhr findet wieder unter dem Motto <strong>Ge
 neration Zukunft / Musikprogramm &amp; open stage</strong> das außergewöhnl
 iche musikalische Angebot junger Musiker statt, gefördert vom Kuratorium un
 d dem Förderverein der Freunde und Förderer des Industriemuseums Cromford.<
 /p><p>Beachten Sie bitte die Plakatierung in der Stadt, die Aushänge und di
 e Ankündigung hier auf der Homepage.</p> <a href="http://cromford-ev.de/cro
 m/veranstaltungen/eventdetail/287/-/einladung-zum-parkfest-kinderfest-im-cr
 omford-park-und-siegerehrung-changes-award?tmpl=component">Dieser Event wur
 de importiert von: http://cromford-ev.de/crom/veranstaltungen/eventdetail/2
 87/-/einladung-zum-parkfest-kinderfest-im-cromford-park-und-siegerehrung-ch
 anges-award?tmpl=component</a>
X-ALT-DESC;FMTTYPE=text/html:<h2 style="font-size: 2rem; text-align: center;">🎉 Einladung zum Parkfest/K
 inderfest im Cromford Park und Siegerehrung changes.AWARD 🎉</h2><p style="t
 ext-align: center; font-weight: bold;">am Sonntag, 29. Juni 2025 ab 11:00 U
 hr im Cromford Park</p><p>&nbsp;</p><p>Liebe Mitglieder, sehr geehrte Damen
  und Herren,</p><p>&nbsp;</p><div style="background: #f8f9fa; padding: 15px
 ; border-radius: 8px;"><p>am Sonntag, d. 29. Juni 2025, findet wieder das t
 raditionelle Park-und Kinderfest im Cromford-Park statt. Die Freunde und Fö
 rderer des Industriemuseums Cromford, das LVR-Industriemuseum Textilfabrik 
 Cromford und die changes.AWARD-Kooperation Mitsubishi Electric/ Förderverei
 n Cromford - laden Sie und Ihre Freunde dazu herzlich ein.</p></div><p>&nbs
 p;</p><p>Vor der prächtigen Kulisse des Herrenhauses erleben Sie</p><ul><li
 >die Big Band von Prof. Dr. Uwe Fitzner, der schon viele Jahre das Park-und
  Kinderfest mit seiner Band schwungvoll und beschwingt begleitet hat</li><l
 i>die Präsentation der teilnehmenden Schülergruppen des changes.AWARD</li><
 li>die Preisverleihung und Siegerehrung mit der großartigen Unterstützung v
 on Mitsubishi Electric Europe unter dem Trommelwirbel der Taiko Lions</li><
 li>das Jugendblasorchester der Musikschule Ratingen unter der Leitung von P
 aul Sevenich.</li></ul><p>Parallel verläuft das Kinderfest unter dem Motto 
 - Spiel, Spaß und Aktionen rund um die Baumwolle - wie in all den Jahren zu
 vor.</p><p>Im Angebot sind</p><ul><li>traditionelle Kinderspiele</li><li>Ak
 tionen rund um die Baumwolle</li><li>Verkleidung mit traditionellen Kostüme
 n mit der entsprechenden fotografischen Begleitung.</li></ul><p>&nbsp;</p><
 p>Bei Stockbrot und Würstchen vom Grill können sich Klein und Groß zwischen
 durch stärken.</p><p>Das Stuckhotel Fettehenne wird mit einem Food-Truck ve
 rtreten sein und für kulinarischen Genuss sorgen.</p><p>Am Stand der Weinha
 ndlung Wein-Garten können Sie sich an verschiedenen Weinen und einem Snacka
 ngebot erfreuen.</p><p>Sind Sie an etwas Süßem interessiert, empfiehlt sich
  der Gang zum Kuchenbuffet des Fördervereins.</p><p>Traditionell zeigt das 
 Kuchenbuffet unserer Mitglieder unter anderem den Charakter des Festes als 
 gemeinsames Picknick. Wir bitten Sie deshalb wieder wie in den letzten Jahr
 en um großzügige Kuchenspenden!</p><p><em><strong>Unsere Fördervereinsmitgl
 ieder - Heike Kramer und Karen Tindall - nehmen sehr gerne Ihre ‚Kuchen-Ang
 ebote‘ (keine Sahnetorten!) entgegen:</strong></em></p><p>&nbsp;</p><p styl
 e="text-align: center;">Bitte melden Sie sich bei<br /> <strong>Heike Krame
 r/Karen Tindall</strong><br /> Telefon: <a href="http://cromford-ev.de/crom
 /tel:+491621998103">0162 1998103</a><br /> E-Mail: <joomla-hidden-mail  is-
 link="1" is-email="1" first="aGVpa2Uua3JhbWVyMQ==" last="YXJjb3IuZGU=" text
 ="aGVpa2Uua3JhbWVyMUBhcmNvci5kZQ==" base="/crom" >Diese E-Mail-Adresse ist 
 vor Spambots geschützt! Zur Anzeige muss JavaScript eingeschaltet sein.</jo
 omla-hidden-mail></p><p>&nbsp;</p><hr /><p>Unter einem geräumigen Zelt und 
 vor einer großen Bühne kann man dann bei Kaffee und Kuchen oder einem Glas 
 Wein der Musik lauschen.</p><p>Lassen Sie sich entführen in die Welt der Br
 ügelmanns, schlüpfen Sie in historische Kostüme und feiern Sie mit uns, so 
 wie vor über 200 Jahren im Cromford-Park der Festsonntag vielleicht auch ge
 feiert wurde.</p><h3 style="font-size: 1.6rem; margin-top: 2rem;">📅 Program
 m für den 29.06.2025</h3><p><strong>Park- und Kinderfest</strong> des Förde
 rvereins der Freunde und Förderer des Industriemuseums Cromford e.V. und de
 s LVR-Industriemuseums Textilfabrik Cromford Ratingen</p><p><strong>im Crom
 ford Park</strong><br />Park- und Kinderfest</p><p><strong>Schirmherr:</str
 ong> Klaus Konrad Pesch, Bürgermeister der Stadt Ratingen<br /> <strong>Ver
 anstalter:</strong> Freunde und Förderer des Industriemuseums Cromford und<
 br /> &nbsp;&nbsp;&nbsp;&nbsp;&nbsp;&nbsp;&nbsp;&nbsp;&nbsp;&nbsp;&nbsp;&nb
 sp;&nbsp;&nbsp;&nbsp;&nbsp;&nbsp;&nbsp;&nbsp;&nbsp;&nbsp;LVR-Industriemuseu
 m Textilfabrik Cromford Ratingen</p><p><br /> <strong>Beginn:</strong> 11:0
 0 Uhr<br /> <strong>Ende:</strong> 18:00 Uhr</p><p>&nbsp;</p><h4 style="fon
 t-size: 1.4rem;">🏆 changes.AWARD</h4><p>&nbsp;</p><p><strong>Schirmherrin:<
 /strong> Mona Neubaur, Ministerin für Wirtschaft, Industrie, Klimaschutz un
 d Energie/ stellv. Ministerpräsidentin des Landes NRW</p><p><strong>Siegere
 hrung aus dem Wettbewerb des changes.AWARD 2025</strong></p><p><strong>Vera
 nstalter:</strong> Freunde und Förderer des Industriemuseums Cromford/Mitsu
 bishi Electric Europe B.V<br /> <strong>Beginn:</strong> 11:00 Uhr Präsenta
 tion der Ergebnisse des Wettbewerbs in den Pagdodenzelten<br /> <strong>End
 e:</strong> 13:00 Uhr</p><p>10 Schülergruppen aus weiterführenden Schulen a
 us ganz NRW präsentieren ihre ausgefeilten Businesspläne zu Problemlösungen
  unter der Aufgabenstellung:</p><blockquote>Invent Today – Innovate Tomorro
 w<br /> Wie kann KI das Leben einfacher, sicherer und besser machen?</block
 quote><h4 style="font-size: 1.4rem;">Swinging mit der Big Band - Prof. Dr. 
 Uwe Fitzner</h4><p><strong>Veranstalter:</strong> Freunde und Förderer des 
 Industriemuseums Cromford<br /> <strong>Beginn:</strong> 11:00 Uhr<br /> <s
 trong>Ende:</strong> 13:00 Uhr</p><h4 style="font-size: 1.4rem;">Siegerehru
 ng: changes.AWARD</h4><p><strong>14:00 Uhr – 15:00 Uhr</strong><br />mit de
 r Trommelgruppe der Taiko Lions</p><h4 style="font-size: 1.4rem;">Jugendbla
 sorchester der Musikschule Ratingen – Paul Sevenich</h4><p><strong>Veransta
 lter:</strong> Freunde und Förderer des Industriemuseums Cromford<br /> <st
 rong>Beginn:</strong> 15:30 Uhr<br /> <strong>Ende:</strong> 17:45 Uhr</p><
 p>Wir freuen uns auf Sie, Ihre Familie und Ihre Freunde.</p><p>Genießen Sie
  wieder einen besonderen Tag in Cromford, genießen Sie unser Park- und Kind
 erfest, genießen Sie unsere Highlights.</p><hr /><h3 style="font-size: 1.6r
 em;">🤝 Mit uns bleibt Geschichte lebendig!</h3><p><strong>Der Vorstand der 
 Freunde und Förderer des Industriemuseums Cromford:</strong><br /> Hannelor
 e Hanning (Vorsitzende)/Dr. Annette Koewius/H-J.Zimmer/Christoph Kirschner/
 Gerd Droste, Dr. Eckart Hofmann, Alexander Hönes</p><p>&nbsp;</p><p>&nbsp;<
 /p><h4 style="font-size: 1.4rem;">🎤 Zusatz-Highlight am Samstag, 28.06.2025
 </h4><p>Am Samstag, d. 28.06.2025 von 17:00 Uhr bis 19:00 Uhr findet wieder
  unter dem Motto <strong>Generation Zukunft / Musikprogramm &amp; open stag
 e</strong> das außergewöhnliche musikalische Angebot junger Musiker statt, 
 gefördert vom Kuratorium und dem Förderverein der Freunde und Förderer des 
 Industriemuseums Cromford.</p><p>Beachten Sie bitte die Plakatierung in der
  Stadt, die Aushänge und die Ankündigung hier auf der Homepage.</p> <a href
 ="http://cromford-ev.de/crom/veranstaltungen/eventdetail/287/-/einladung-zu
 m-parkfest-kinderfest-im-cromford-park-und-siegerehrung-changes-award?tmpl=
 component">Dieser Event wurde importiert von: http://cromford-ev.de/crom/ve
 ranstaltungen/eventdetail/287/-/einladung-zum-parkfest-kinderfest-im-cromfo
 rd-park-und-siegerehrung-changes-award?tmpl=component</a>DTSTAMP:20260420T080425
DTSTART;TZID=Europe/Berlin:20250629T110000
SEQUENCE:0
TRANSP:OPAQUE
END:VEVENT
END:VCALENDAR