BEGIN:VCALENDAR
VERSION:2.0
PRODID:-//jEvents 2.0 for Joomla//EN
CALSCALE:GREGORIAN
METHOD:PUBLISH
BEGIN:VTIMEZONE
TZID:Europe/Berlin
BEGIN:STANDARD
DTSTART:20231112T183000
RDATE:20240331T030000
TZOFFSETFROM:+0200
TZOFFSETTO:+0100
TZNAME:Europe/Berlin CET
END:STANDARD
BEGIN:STANDARD
DTSTART:20241027T020000
RDATE:20250330T030000
TZOFFSETFROM:+0200
TZOFFSETTO:+0100
TZNAME:Europe/Berlin CET
END:STANDARD
BEGIN:STANDARD
DTSTART:20251026T020000
RDATE:20260329T030000
TZOFFSETFROM:+0200
TZOFFSETTO:+0100
TZNAME:Europe/Berlin CET
END:STANDARD
BEGIN:STANDARD
DTSTART:20261025T020000
RDATE:20270328T030000
TZOFFSETFROM:+0200
TZOFFSETTO:+0100
TZNAME:Europe/Berlin CET
END:STANDARD
BEGIN:STANDARD
DTSTART:20271031T020000
RDATE:20280326T030000
TZOFFSETFROM:+0200
TZOFFSETTO:+0100
TZNAME:Europe/Berlin CET
END:STANDARD
BEGIN:STANDARD
DTSTART:20281029T020000
RDATE:20290325T030000
TZOFFSETFROM:+0200
TZOFFSETTO:+0100
TZNAME:Europe/Berlin CET
END:STANDARD
BEGIN:STANDARD
DTSTART:20291028T020000
RDATE:20300331T030000
TZOFFSETFROM:+0200
TZOFFSETTO:+0100
TZNAME:Europe/Berlin CET
END:STANDARD
BEGIN:DAYLIGHT
DTSTART:20240331T030000
RDATE:20241027T020000
TZOFFSETFROM:+0100
TZOFFSETTO:+0200
TZNAME:Europe/Berlin CEST
END:DAYLIGHT
BEGIN:DAYLIGHT
DTSTART:20250330T030000
RDATE:20251026T020000
TZOFFSETFROM:+0100
TZOFFSETTO:+0200
TZNAME:Europe/Berlin CEST
END:DAYLIGHT
BEGIN:DAYLIGHT
DTSTART:20260329T030000
RDATE:20261025T020000
TZOFFSETFROM:+0100
TZOFFSETTO:+0200
TZNAME:Europe/Berlin CEST
END:DAYLIGHT
BEGIN:DAYLIGHT
DTSTART:20270328T030000
RDATE:20271031T020000
TZOFFSETFROM:+0100
TZOFFSETTO:+0200
TZNAME:Europe/Berlin CEST
END:DAYLIGHT
BEGIN:DAYLIGHT
DTSTART:20280326T030000
RDATE:20281029T020000
TZOFFSETFROM:+0100
TZOFFSETTO:+0200
TZNAME:Europe/Berlin CEST
END:DAYLIGHT
BEGIN:DAYLIGHT
DTSTART:20290325T030000
RDATE:20291028T020000
TZOFFSETFROM:+0100
TZOFFSETTO:+0200
TZNAME:Europe/Berlin CEST
END:DAYLIGHT
END:VTIMEZONE
BEGIN:VEVENT
UID:77b5e8d355a203eadae47985ffb42291
CATEGORIES:Museum
CREATED:20240410T082455
SUMMARY:Workshop: „Light Painting am Abend“
URL;VALUE=URI:http://cromford-ev.de/crom/veranstaltungen/eventdetail/199/-/workshop-light
 -painting-am-abend?tmpl=component
DESCRIPTION:Abends im Museum? Und dabei Kunstwerke aus Licht erschaffen? Das geht nun a
 uch im LVR-Industriemuseum Textilfabrik Cromford. Beim Einführungsworkshop 
 in die Technik des Light Paintings werden im abgedunkelten Raum durch Langz
 eitbelichtung und Bewegung von Lichtquellen Kunstwerke in die Luft gemalt u
 nd fotografisch festgehalten. Unterschiedliche Materialien wie Strohhalme, 
 Plexiglas oder Transparentpapier sorgen für stimmungsvolle Effekte und lass
 en außergewöhnliche, bunt leuchtende Kunstwerke entstehen.\nEine Anmeldung 
 ist erforderlich. \n Tickets sind buchbar unter 02234-9921555 oder im Websh
 op: www.shop.industriemuseum.lvr.de (http://www.shop.industriemuseum.lvr.de
 /)\n\n Preise:\nKosten: 15 €\nmax. 20 Personen, min. 4\nWeitere Information
 en:\n kulturinfo rheinland, Tel.: 02234/9921-555 oder\nLVR-Industriemuseum,
  Textilfabrik Cromford, Tel.: 02102/86449-0,\n www.industriemuseum.lvr.de (
 http://www.industriemuseum.lvr.de/)\n Dieser Event wurde importiert von: ht
 tp://cromford-ev.de/crom/veranstaltungen/eventdetail/199/-/workshop-light-p
 ainting-am-abend?tmpl=component
X-ALT-DESC;FMTTYPE=text/html:<p>Abends im Museum? Und dabei Kunstwerke aus Licht erschaffen? Das geht nu
 n auch im LVR-Industriemuseum Textilfabrik Cromford. Beim Einführungsworksh
 op in die Technik des Light Paintings werden im abgedunkelten Raum durch La
 ngzeitbelichtung und Bewegung von Lichtquellen Kunstwerke in die Luft gemal
 t und fotografisch festgehalten. Unterschiedliche Materialien wie Strohhalm
 e, Plexiglas oder Transparentpapier sorgen für stimmungsvolle Effekte und l
 assen außergewöhnliche, bunt leuchtende Kunstwerke entstehen.</p><p><strong
 >Eine Anmeldung ist erforderlich.</strong> <br /> Tickets sind buchbar unte
 r 02234-9921555 oder im Webshop: <a href="http://www.shop.industriemuseum.l
 vr.de/">www.shop.industriemuseum.lvr.de</a></p><p><br /> <strong>Preise:</s
 trong></p><p>Kosten: 15 €<br />max. 20 Personen, min. 4</p><p>Weitere Infor
 mationen:<br /> kulturinfo rheinland, Tel.: 02234/9921-555 oder</p><p>LVR-I
 ndustriemuseum, Textilfabrik Cromford, Tel.: 02102/86449-0,<br /> <a href="
 http://www.industriemuseum.lvr.de/"><span id="lblKosten">www.industriemuseu
 m.lvr.de</span></a></p> <a href="http://cromford-ev.de/crom/veranstaltungen
 /eventdetail/199/-/workshop-light-painting-am-abend?tmpl=component">Dieser 
 Event wurde importiert von: http://cromford-ev.de/crom/veranstaltungen/even
 tdetail/199/-/workshop-light-painting-am-abend?tmpl=component</a>DTSTAMP:20260421T120527
DTSTART;TZID=Europe/Berlin:20241112T183000
DTEND;TZID=Europe/Berlin:20241112T200000
SEQUENCE:0
TRANSP:OPAQUE
END:VEVENT
END:VCALENDAR